BEGIN:VCALENDAR
VERSION:2.0
PRODID:-//The Siren, Morro Bay, CA - ECPv5.1.6//NONSGML v1.0//EN
CALSCALE:GREGORIAN
METHOD:PUBLISH
X-WR-CALNAME:The Siren, Morro Bay, CA
X-ORIGINAL-URL:https://thesirenmorrobay.com
X-WR-CALDESC:Events for The Siren, Morro Bay, CA
BEGIN:VTIMEZONE
TZID:America/Los_Angeles
BEGIN:DAYLIGHT
TZOFFSETFROM:-0800
TZOFFSETTO:-0700
TZNAME:PDT
DTSTART:20220313T100000
END:DAYLIGHT
BEGIN:STANDARD
TZOFFSETFROM:-0700
TZOFFSETTO:-0800
TZNAME:PST
DTSTART:20221106T090000
END:STANDARD
END:VTIMEZONE
BEGIN:VEVENT
DTSTART;TZID=America/Los_Angeles:20220401T193000
DTEND;TZID=America/Los_Angeles:20220401T233000
DTSTAMP:20260421T031940
CREATED:20220302T031147Z
LAST-MODIFIED:20220314T210515Z
UID:5309-1648841400-1648855800@thesirenmorrobay.com
SUMMARY:DJ Yella Of N.W.A.
DESCRIPTION:Hip Hop royalty\, rock in roll hall of fame member and original NWA member DJ Yella comes to Morro Bay! \nOn April 1st DJ Yella is gonna be rockin the stage at the Siren in Morro Bay. Local artists; Rogue Status\, Odizo\, Riff City Records Dj Mix Mangla\, Dj One Breeze\, Aaron California\, Rx DaScrip\, and Endless will be opening up for the legend. \nDJ Yella began his career as a member of the World Class Wreckin’ Cru along with Dr. Dre. He later joined the pioneering gangsta rap group N.W.A (originally composed of Dr. Dre\, Ice Cube\, MC Ren\, Arabian Prince and Eazy-E) and became the least vocal but longest-lasting member of the group. His first and only studio album One Mo Nigga ta Go was released in 1996 through Street Life Records and was dedicated to Eazy-E. After the release of the album he left the music industry to direct pornographic films until 2011\, when he started working on a new album called West Coastin. \nIn 2016\, He was inducted into the Rock and Roll Hall of Fame as a member of N.W.A.
URL:https://thesirenmorrobay.com/event/dj-yella-of-n-w-a/
LOCATION:The Siren\, 900 Main St.\, Morro Bay\, CA\, 93422\, United States
ATTACH;FMTTYPE=image/jpeg:https://thesirenmorrobay.com/wp-content/uploads/2022/03/image-3.jpeg
END:VEVENT
END:VCALENDAR