BEGIN:VCALENDAR
VERSION:2.0
PRODID:-//The Siren, Morro Bay, CA - ECPv5.1.6//NONSGML v1.0//EN
CALSCALE:GREGORIAN
METHOD:PUBLISH
X-WR-CALNAME:The Siren, Morro Bay, CA
X-ORIGINAL-URL:https://thesirenmorrobay.com
X-WR-CALDESC:Events for The Siren, Morro Bay, CA
BEGIN:VTIMEZONE
TZID:America/Los_Angeles
BEGIN:DAYLIGHT
TZOFFSETFROM:-0800
TZOFFSETTO:-0700
TZNAME:PDT
DTSTART:20250309T100000
END:DAYLIGHT
BEGIN:STANDARD
TZOFFSETFROM:-0700
TZOFFSETTO:-0800
TZNAME:PST
DTSTART:20251102T090000
END:STANDARD
END:VTIMEZONE
BEGIN:VEVENT
DTSTART;TZID=America/Los_Angeles:20250104T140000
DTEND;TZID=America/Los_Angeles:20250104T170000
DTSTAMP:20260421T214525
CREATED:20210713T003557Z
LAST-MODIFIED:20241127T225259Z
UID:4801-1735999200-1736010000@thesirenmorrobay.com
SUMMARY:Deja Vu (Free afternoon show)
DESCRIPTION:FREE AFTERNOON SHOW! \nFive talented musicians on the central coast make up the amazing band Deja-Vu! Seasoned veterans include Janice Mundee (Lead Vocals)\,  Chris Tso (Guitar & Vocals)\, Ted Davantzis (Guitar & Vocals)\, Daniel Marrin (Drums & Vocals)\, and Gus Cristicini (Bass ). \nDeja Vu  brings fun and high energy whenever we play our songs. The extensive song list features a variety of covers from Classic Rock to Country to R&B to Top 40 spanning 5 decades of crowd-pleasing music and fun!   Besides great music\,  we actively promote our concerts online and are growing a group of followers who love our music.  Our name is getting a reputation as the band to see. \nTouring up and down the Central Coast\, DeJa-Vu regularly performs at venues such as The California Mid State Fair\, The Atascadero Wine Festival\, The Pour House\, Harry’s Nightclub\, Broken Earth Winery\, Midnight Cellars\, The Siren\, Graveyard Vineyards\, Sea Pines Golf Resort Barefoot on the Greens and more. \nDancing and Fun-For-All\,  Deja-Vu plays the best music that you’ve loved throughout your life–let us create a DeJa-Vu for you. \n  \n 
URL:https://thesirenmorrobay.com/event/deja-vu-2/
LOCATION:The Siren\, 900 Main St.\, Morro Bay\, CA\, 93422\, United States
ATTACH;FMTTYPE=image/jpeg:https://thesirenmorrobay.com/wp-content/uploads/2021/07/FullSizeR.jpg
END:VEVENT
END:VCALENDAR