BEGIN:VCALENDAR
VERSION:2.0
PRODID:-//The Siren, Morro Bay, CA - ECPv5.1.6//NONSGML v1.0//EN
CALSCALE:GREGORIAN
METHOD:PUBLISH
X-WR-CALNAME:The Siren, Morro Bay, CA
X-ORIGINAL-URL:https://thesirenmorrobay.com
X-WR-CALDESC:Events for The Siren, Morro Bay, CA
BEGIN:VTIMEZONE
TZID:America/Los_Angeles
BEGIN:DAYLIGHT
TZOFFSETFROM:-0800
TZOFFSETTO:-0700
TZNAME:PDT
DTSTART:20250309T100000
END:DAYLIGHT
BEGIN:STANDARD
TZOFFSETFROM:-0700
TZOFFSETTO:-0800
TZNAME:PST
DTSTART:20251102T090000
END:STANDARD
END:VTIMEZONE
BEGIN:VEVENT
DTSTART;TZID=America/Los_Angeles:20250210T190000
DTEND;TZID=America/Los_Angeles:20250210T223000
DTSTAMP:20260420T214359
CREATED:20240911T174437Z
LAST-MODIFIED:20241027T194455Z
UID:7676-1739214000-1739226600@thesirenmorrobay.com
SUMMARY:Cursive with PILE
DESCRIPTION:Very few bands manage to last decades\, and for the ones that do\, it’s often easy to settle down and get a little too comfortable. But there’s nothing comfortable about Devourer\, the explosive new album from Cursive. The iconic Omaha group is known for their intensity\, ambition\, and execution\, and has spent 30 years creating a bold discography that’s defined as much by its cathartic sound as its weighty\, challenging lyrical themes. And Devourer is as daring as ever. Full of intense and incisive songs\, the album proves exactly why Cursive have been so influential and enduring–and why they remain so vital today. \n\nPile is a foursome made up of Maguire\, guitarist Matt Becker\, bassist Matt Connery\, and drummer Kris Kuss. The band started as Maguire’s solo side project while writing and performing with a previous group\, Hel Toro\, and was intended as a catch-all for the “pile” of songs that didn’t fit that band’s style.
URL:https://thesirenmorrobay.com/event/cursive-with-pile/
LOCATION:The Siren\, 900 Main St.\, Morro Bay\, CA\, 93422\, United States
ATTACH;FMTTYPE=image/jpeg:https://thesirenmorrobay.com/wp-content/uploads/2024/09/cursive.jpg
END:VEVENT
END:VCALENDAR