BEGIN:VCALENDAR
VERSION:2.0
PRODID:-//The Siren, Morro Bay, CA - ECPv5.1.6//NONSGML v1.0//EN
CALSCALE:GREGORIAN
METHOD:PUBLISH
X-WR-CALNAME:The Siren, Morro Bay, CA
X-ORIGINAL-URL:https://thesirenmorrobay.com
X-WR-CALDESC:Events for The Siren, Morro Bay, CA
BEGIN:VTIMEZONE
TZID:America/Los_Angeles
BEGIN:DAYLIGHT
TZOFFSETFROM:-0800
TZOFFSETTO:-0700
TZNAME:PDT
DTSTART:20180311T100000
END:DAYLIGHT
BEGIN:STANDARD
TZOFFSETFROM:-0700
TZOFFSETTO:-0800
TZNAME:PST
DTSTART:20181104T090000
END:STANDARD
END:VTIMEZONE
BEGIN:VEVENT
DTSTART;TZID=America/Los_Angeles:20181121T190000
DTEND;TZID=America/Los_Angeles:20181121T213000
DTSTAMP:20260421T075635
CREATED:20181012T234832Z
LAST-MODIFIED:20181120T021331Z
UID:2433-1542826800-1542835800@thesirenmorrobay.com
SUMMARY:Comedy Night with Rick Storer and Friends at the Siren!
DESCRIPTION:Doors open at 7pm\, 21+ (tickets available in person at BooBoo Records in SLO or online at ticketfly.com. Seating first come\, first serve) \nThe Siren Morro Bay presents a hilarious night of stand-up comedy from the premier comedians of the central coast! For only one night in November\, come watch the next big names in comedy perform their best material for you! \nAidan Candelario – Aidan is a young up and coming comedian living in SLO. Originally from Orange County\, Aidan has brought his dry\, acerbic brand of comedy to the central coast\, where he hosts several comedy shows. Aidan blends poetry\, stand-up comedy\, and wry observation to the delight of audiences all over California. \nNick Malizia – DJ by day\, comedian by night\, Nick walks the line between family-friendly and R-rated like a tightrope. Always well put-together\, Nick finds the funny in everyday situations\, and has no problem recounting his most hilarious personal stories. \nMichael Zalusky – One half of the popular Avast! Ye Scoundrel podcast\, Michael is one of the most established comedians in the central coast comedy scene. Michael has toured all over the west coast of the U.S. and hosted the single most popular and successful comedy show in San Luis Obispo for several years. His self-deprecating humor is both relatable and ridiculous\, and his audiences agree. \nRick Storer – Rick Storer is one of the most in-demand comedians on the central coast. Currently on tour through California and Arizona\, the other half of the Avast! Ye Scoundrel podcast is being featured at some of the best rooms in comedy. Rick is in turns deprecating\, rambunctious\, off-the-cuff\, and focused\, and consistently and frequently engages his audiences in playful banter. Recently featured on Buzzfeed\, Rick Storer is soon to be one of the premier comics of California.
URL:https://thesirenmorrobay.com/event/comedy-night-with-rick-storer-and-friends-at-the-siren/
LOCATION:The Siren\, 900 Main St.\, Morro Bay\, CA\, 93422\, United States
END:VEVENT
END:VCALENDAR