BEGIN:VCALENDAR
VERSION:2.0
PRODID:-//The Siren, Morro Bay, CA - ECPv5.1.6//NONSGML v1.0//EN
CALSCALE:GREGORIAN
METHOD:PUBLISH
X-WR-CALNAME:The Siren, Morro Bay, CA
X-ORIGINAL-URL:https://thesirenmorrobay.com
X-WR-CALDESC:Events for The Siren, Morro Bay, CA
BEGIN:VTIMEZONE
TZID:America/Los_Angeles
BEGIN:DAYLIGHT
TZOFFSETFROM:-0800
TZOFFSETTO:-0700
TZNAME:PDT
DTSTART:20240310T100000
END:DAYLIGHT
BEGIN:STANDARD
TZOFFSETFROM:-0700
TZOFFSETTO:-0800
TZNAME:PST
DTSTART:20241103T090000
END:STANDARD
END:VTIMEZONE
BEGIN:VEVENT
DTSTART;TZID=America/Los_Angeles:20240411T190000
DTEND;TZID=America/Los_Angeles:20240411T220000
DTSTAMP:20260421T135949
CREATED:20240125T230812Z
LAST-MODIFIED:20240125T231024Z
UID:7105-1712862000-1712872800@thesirenmorrobay.com
SUMMARY:Circles Around The Sun
DESCRIPTION:Originally formed from an idea that concert impresario Peter Shapiro had about commissioning original set-break music at the Grateful Dead’s 50th anniversary concerts (“Fare Thee Well”)\, Circles Around The Sun is a first-of-its-kind band that has continued to trail-blaze the instrumental cosmic disco space for nearly a decade\, shapeshifting through several iterations. Not just spiritually but actually and tangibly linked to Grateful Dead history\, the band’s music shares shelf space with post-rock\, surf-rock\, jazz-funk\, and good old fashioned psychedelia\, while their recorded output has included collaborations with such diverse luminaries as Joe Russo\, Billy Strings and Mikaela Davis. Original instrumentals form the bedrock of CATS’ live show\, taking fans on a whole different journey every time.
URL:https://thesirenmorrobay.com/event/circles-around-the-sun/
LOCATION:The Siren\, 900 Main St.\, Morro Bay\, CA\, 93422\, United States
ATTACH;FMTTYPE=image/jpeg:https://thesirenmorrobay.com/wp-content/uploads/2024/01/circles-around-the-sun-plyrz.jpg
END:VEVENT
END:VCALENDAR