BEGIN:VCALENDAR
VERSION:2.0
PRODID:-//The Siren, Morro Bay, CA - ECPv5.1.6//NONSGML v1.0//EN
CALSCALE:GREGORIAN
METHOD:PUBLISH
X-WR-CALNAME:The Siren, Morro Bay, CA
X-ORIGINAL-URL:https://thesirenmorrobay.com
X-WR-CALDESC:Events for The Siren, Morro Bay, CA
BEGIN:VTIMEZONE
TZID:America/Los_Angeles
BEGIN:DAYLIGHT
TZOFFSETFROM:-0800
TZOFFSETTO:-0700
TZNAME:PDT
DTSTART:20190310T100000
END:DAYLIGHT
BEGIN:STANDARD
TZOFFSETFROM:-0700
TZOFFSETTO:-0800
TZNAME:PST
DTSTART:20191103T090000
END:STANDARD
END:VTIMEZONE
BEGIN:VEVENT
DTSTART;TZID=America/Los_Angeles:20190505T140000
DTEND;TZID=America/Los_Angeles:20190505T170000
DTSTAMP:20260421T164730
CREATED:20190409T211750Z
LAST-MODIFIED:20190411T233111Z
UID:3206-1557064800-1557075600@thesirenmorrobay.com
SUMMARY:Cinco De Mayo Day Party with The Golfdads!
DESCRIPTION:Happy Cinco De Mayo! e’re alway looking for a reason to throw an afternoon party! Cinco De Mayo on Car show Sunday was more than enough reason to drag San Luis party band Golfdads out for a free dance party! \n  \nGolfdads is a funk/rock/punk/groove fusion group consisting of mostly cal poly jazz one musicians\, a student athlete and a radio dj based in SLO \n 
URL:https://thesirenmorrobay.com/event/cinco-de-mayo-day-party-with-the-golfdads/
LOCATION:The Siren\, 900 Main St.\, Morro Bay\, CA\, 93422\, United States
END:VEVENT
END:VCALENDAR