BEGIN:VCALENDAR
VERSION:2.0
PRODID:-//The Siren, Morro Bay, CA - ECPv5.1.6//NONSGML v1.0//EN
CALSCALE:GREGORIAN
METHOD:PUBLISH
X-WR-CALNAME:The Siren, Morro Bay, CA
X-ORIGINAL-URL:https://thesirenmorrobay.com
X-WR-CALDESC:Events for The Siren, Morro Bay, CA
BEGIN:VTIMEZONE
TZID:America/Los_Angeles
BEGIN:DAYLIGHT
TZOFFSETFROM:-0800
TZOFFSETTO:-0700
TZNAME:PDT
DTSTART:20180311T100000
END:DAYLIGHT
BEGIN:STANDARD
TZOFFSETFROM:-0700
TZOFFSETTO:-0800
TZNAME:PST
DTSTART:20181104T090000
END:STANDARD
END:VTIMEZONE
BEGIN:VEVENT
DTSTART;TZID=America/Los_Angeles:20181205T193000
DTEND;TZID=America/Los_Angeles:20181205T223000
DTSTAMP:20260421T085902
CREATED:20181031T210528Z
LAST-MODIFIED:20181120T031505Z
UID:2481-1544038200-1544049000@thesirenmorrobay.com
SUMMARY:Cayucas w/Nico Yaryan
DESCRIPTION:Doors open at 7:30pm 21+ (Tickets available at BooBoo’s Records and ticketfly.com) \n\nThe sunny pop project of Santa Monica-based songwriter Zach Yudin\, Cayucas pays tribute to the seaside town of Cayucos\, California as well as the lighthearted sounds of the early to mid-’60s (for live shows\, the project includes his twin brother Ben\, Banah Winn\, Casey Wojtalewicz\, and Christian Koons). Formerly making music under the moniker Oregon Bike Trails\, Yudin double-majored in music theory/production and Japanese in college\, and after spending a year in Tokyo after graduation\, focused on perfecting Cayucas‘ sound. Sampling artists like Harry Belafonte\, the Animals\, and the Tornadoes\, and writing songs on acoustic guitar\, he pieced together some nostalgic yet timeless-sounding songs that he posted online. After signing to Secretly Canadian Records\, Yudin collaborated with producer Richard Swift\, who added more original instrumentation to Cayucas‘ songs. The results were Bigfoot\, a set of eight summery tracks that arrived in April 2013. It appeared in the Top 50 of Billboard’s Independent Albums chart\, and extensive touring in support of acts including Lord Huron and Young the Giant followed. A sophomore album\, which credited both Zach and Ben Yudin as bandmates\, was recorded with Ryan Hadlock (the Lumineers\, Brandi Carlile) at Bear Creek in Woodinville\, Washington. Dancing at the Blue Lagoonarrived in June 2015.
URL:https://thesirenmorrobay.com/event/cayucas-w-nico-yaryan/
LOCATION:The Siren\, 900 Main St.\, Morro Bay\, CA\, 93422\, United States
END:VEVENT
END:VCALENDAR