BEGIN:VCALENDAR
VERSION:2.0
PRODID:-//The Siren, Morro Bay, CA - ECPv5.1.6//NONSGML v1.0//EN
CALSCALE:GREGORIAN
METHOD:PUBLISH
X-WR-CALNAME:The Siren, Morro Bay, CA
X-ORIGINAL-URL:https://thesirenmorrobay.com
X-WR-CALDESC:Events for The Siren, Morro Bay, CA
BEGIN:VTIMEZONE
TZID:America/Los_Angeles
BEGIN:DAYLIGHT
TZOFFSETFROM:-0800
TZOFFSETTO:-0700
TZNAME:PDT
DTSTART:20190310T100000
END:DAYLIGHT
BEGIN:STANDARD
TZOFFSETFROM:-0700
TZOFFSETTO:-0800
TZNAME:PST
DTSTART:20191103T090000
END:STANDARD
END:VTIMEZONE
BEGIN:VEVENT
DTSTART;TZID=America/Los_Angeles:20190126T143000
DTEND;TZID=America/Los_Angeles:20190126T173000
DTSTAMP:20260421T102106
CREATED:20190102T040530Z
LAST-MODIFIED:20190102T040530Z
UID:2763-1548513000-1548523800@thesirenmorrobay.com
SUMMARY:Burning\, Bad & Cool
DESCRIPTION:FREE SHOW 21+ \nBurning Bad & Cool perform southern fried soul and gospel classics dipped in sweet three part harmonies. Their playlist is unique (songs by Sam Cooke\, Temptations\, Al Green\, Blind Boys of Alabama and much more). And the harmonies are rich!
URL:https://thesirenmorrobay.com/event/burning-bad-cool/
LOCATION:The Siren\, 900 Main St.\, Morro Bay\, CA\, 93422\, United States
END:VEVENT
END:VCALENDAR