BEGIN:VCALENDAR
VERSION:2.0
PRODID:-//The Siren, Morro Bay, CA - ECPv5.1.6//NONSGML v1.0//EN
CALSCALE:GREGORIAN
METHOD:PUBLISH
X-WR-CALNAME:The Siren, Morro Bay, CA
X-ORIGINAL-URL:https://thesirenmorrobay.com
X-WR-CALDESC:Events for The Siren, Morro Bay, CA
BEGIN:VTIMEZONE
TZID:America/Los_Angeles
BEGIN:DAYLIGHT
TZOFFSETFROM:-0800
TZOFFSETTO:-0700
TZNAME:PDT
DTSTART:20180311T100000
END:DAYLIGHT
BEGIN:STANDARD
TZOFFSETFROM:-0700
TZOFFSETTO:-0800
TZNAME:PST
DTSTART:20181104T090000
END:STANDARD
END:VTIMEZONE
BEGIN:VEVENT
DTSTART;TZID=America/Los_Angeles:20181103T210000
DTEND;TZID=America/Los_Angeles:20181103T230000
DTSTAMP:20260421T074622
CREATED:20181104T011249Z
LAST-MODIFIED:20181104T011249Z
UID:2495-1541278800-1541286000@thesirenmorrobay.com
SUMMARY:BSV Trio
DESCRIPTION:FREE SHOW 21+ \n  \nJoin us for a fun evening with the BSV Trio! Featuring rock\, funk and blues tunes\, this group from Santa Maria will keep you groovin’ from 6:30-9pm. Food from 5-8pm. \n  \n \n  \n 
URL:https://thesirenmorrobay.com/event/bsv-trio/
LOCATION:The Siren\, 900 Main St.\, Morro Bay\, CA\, 93422\, United States
END:VEVENT
END:VCALENDAR