BEGIN:VCALENDAR
VERSION:2.0
PRODID:-//The Siren, Morro Bay, CA - ECPv5.1.6//NONSGML v1.0//EN
CALSCALE:GREGORIAN
METHOD:PUBLISH
X-WR-CALNAME:The Siren, Morro Bay, CA
X-ORIGINAL-URL:https://thesirenmorrobay.com
X-WR-CALDESC:Events for The Siren, Morro Bay, CA
BEGIN:VTIMEZONE
TZID:America/Los_Angeles
BEGIN:DAYLIGHT
TZOFFSETFROM:-0800
TZOFFSETTO:-0700
TZNAME:PDT
DTSTART:20190310T100000
END:DAYLIGHT
BEGIN:STANDARD
TZOFFSETFROM:-0700
TZOFFSETTO:-0800
TZNAME:PST
DTSTART:20191103T090000
END:STANDARD
END:VTIMEZONE
BEGIN:VEVENT
DTSTART;TZID=America/Los_Angeles:20190201T193000
DTEND;TZID=America/Los_Angeles:20190201T230000
DTSTAMP:20260421T102610
CREATED:20190102T195151Z
LAST-MODIFIED:20190102T195151Z
UID:2775-1549049400-1549062000@thesirenmorrobay.com
SUMMARY:Bob Marley Birthday Celebration w/One Drop Redemption
DESCRIPTION:Doors open at 7:30pm\, 21+ (advance tickets available in person at BooBoo Records or mobile/print at home tickets available at ticketfly.com.) \n\nOne Drop Redemption\, Bob Marley Tribute is a celebration of the music of the Legendary King of Reggae\, Bob Marley. One Drop Redemption was formed by long-time reggae musician Gordon ‘Suba Dread’ Brooks along with Jeff Douglas\, and Terrell Smith in 2005. “In these last days\, we want to represent ‘redemption’ like our name says. Every man\, woman\, and youth is blessed with this possibility. We live in a time where choices are available to all. We’re here to empower all who willing to listen.”
URL:https://thesirenmorrobay.com/event/bob-marley-birthday-celebration-w-one-drop-redemption/
LOCATION:The Siren\, 900 Main St.\, Morro Bay\, CA\, 93422\, United States
END:VEVENT
END:VCALENDAR