BEGIN:VCALENDAR
VERSION:2.0
PRODID:-//The Siren, Morro Bay, CA - ECPv5.1.6//NONSGML v1.0//EN
CALSCALE:GREGORIAN
METHOD:PUBLISH
X-WR-CALNAME:The Siren, Morro Bay, CA
X-ORIGINAL-URL:https://thesirenmorrobay.com
X-WR-CALDESC:Events for The Siren, Morro Bay, CA
BEGIN:VTIMEZONE
TZID:America/Los_Angeles
BEGIN:DAYLIGHT
TZOFFSETFROM:-0800
TZOFFSETTO:-0700
TZNAME:PDT
DTSTART:20230312T100000
END:DAYLIGHT
BEGIN:STANDARD
TZOFFSETFROM:-0700
TZOFFSETTO:-0800
TZNAME:PST
DTSTART:20231105T090000
END:STANDARD
END:VTIMEZONE
BEGIN:VEVENT
DTSTART;TZID=America/Los_Angeles:20230813T140000
DTEND;TZID=America/Los_Angeles:20230813T170000
DTSTAMP:20260421T184205
CREATED:20170715T021102Z
LAST-MODIFIED:20230808T030908Z
UID:876-1691935200-1691946000@thesirenmorrobay.com
SUMMARY:Baywood Jones (Free Sunday Matinee Show)
DESCRIPTION:Matthias Clark\, front man for King Holiday\, formed Baywood Jones with fellow Baywood locals Wayne Walcoff and Luis Monge\, as a jam band to explore and stretch out on guitar with great organ and drums. The Wine Seller in Morro bay graciously let the band play every week and tunes were developed in the room with a great local audience.
URL:https://thesirenmorrobay.com/event/baywoodjones/
LOCATION:The Siren\, 900 Main St.\, Morro Bay\, CA\, 93422\, United States
ATTACH;FMTTYPE=image/jpeg:https://thesirenmorrobay.com/wp-content/uploads/2017/07/baywood.jpeg
END:VEVENT
END:VCALENDAR