BEGIN:VCALENDAR
VERSION:2.0
PRODID:-//The Siren, Morro Bay, CA - ECPv5.1.6//NONSGML v1.0//EN
CALSCALE:GREGORIAN
METHOD:PUBLISH
X-WR-CALNAME:The Siren, Morro Bay, CA
X-ORIGINAL-URL:https://thesirenmorrobay.com
X-WR-CALDESC:Events for The Siren, Morro Bay, CA
BEGIN:VTIMEZONE
TZID:America/Los_Angeles
BEGIN:DAYLIGHT
TZOFFSETFROM:-0800
TZOFFSETTO:-0700
TZNAME:PDT
DTSTART:20180311T100000
END:DAYLIGHT
BEGIN:STANDARD
TZOFFSETFROM:-0700
TZOFFSETTO:-0800
TZNAME:PST
DTSTART:20181104T090000
END:STANDARD
END:VTIMEZONE
BEGIN:VEVENT
DTSTART;TZID=America/Los_Angeles:20181227T203000
DTEND;TZID=America/Los_Angeles:20181227T223000
DTSTAMP:20260421T085659
CREATED:20181124T002510Z
LAST-MODIFIED:20181124T002510Z
UID:2646-1545942600-1545949800@thesirenmorrobay.com
SUMMARY:Banda`Bordel
DESCRIPTION:FREE SHOW! 21+ \n\nGypsy Punk Super Group Consisting of Member of BandàpArt & QUEL BORDEL!
URL:https://thesirenmorrobay.com/event/bandabordel/
LOCATION:The Siren\, 900 Main St.\, Morro Bay\, CA\, 93422\, United States
END:VEVENT
END:VCALENDAR