BEGIN:VCALENDAR
VERSION:2.0
PRODID:-//The Siren, Morro Bay, CA - ECPv5.1.6//NONSGML v1.0//EN
CALSCALE:GREGORIAN
METHOD:PUBLISH
X-WR-CALNAME:The Siren, Morro Bay, CA
X-ORIGINAL-URL:https://thesirenmorrobay.com
X-WR-CALDESC:Events for The Siren, Morro Bay, CA
BEGIN:VTIMEZONE
TZID:America/Los_Angeles
BEGIN:DAYLIGHT
TZOFFSETFROM:-0800
TZOFFSETTO:-0700
TZNAME:PDT
DTSTART:20190310T100000
END:DAYLIGHT
BEGIN:STANDARD
TZOFFSETFROM:-0700
TZOFFSETTO:-0800
TZNAME:PST
DTSTART:20191103T090000
END:STANDARD
END:VTIMEZONE
BEGIN:VEVENT
DTSTART;TZID=America/Los_Angeles:20190103T203000
DTEND;TZID=America/Los_Angeles:20190103T223000
DTSTAMP:20260421T085552
CREATED:20181128T004128Z
LAST-MODIFIED:20181128T004128Z
UID:2654-1546547400-1546554600@thesirenmorrobay.com
SUMMARY:August Sun
DESCRIPTION:FREE Show\, 21+ \n\nThe band was started by singer/songwriter and guitarist Christian Walsh\, blending folk\, blues\, and straight ahead rock n’ roll\, creating an upbeat\, original classic sound with a contemporary grit from the Santa Cruz mountains of California. He is joined by Dan Knox on lead guitar\, Brendan Brose on bass\, Tony Whittaker on keyboards and backing vocals\, and Jonny Hampton on drums and backing vocals. \nTogether they create a high energy\, toe tapping rock n’ roll sound of original mountain rock music that will keeps you dancing\, and satisfies the music pallet of all ages with a classic sound of an era all but forgotten and an energy that screams ‘ Rock n’ Roll”!
URL:https://thesirenmorrobay.com/event/august-sun/
LOCATION:The Siren\, 900 Main St.\, Morro Bay\, CA\, 93422\, United States
END:VEVENT
END:VCALENDAR