BEGIN:VCALENDAR
VERSION:2.0
PRODID:-//The Siren, Morro Bay, CA - ECPv5.1.6//NONSGML v1.0//EN
CALSCALE:GREGORIAN
METHOD:PUBLISH
X-WR-CALNAME:The Siren, Morro Bay, CA
X-ORIGINAL-URL:https://thesirenmorrobay.com
X-WR-CALDESC:Events for The Siren, Morro Bay, CA
BEGIN:VTIMEZONE
TZID:America/Los_Angeles
BEGIN:DAYLIGHT
TZOFFSETFROM:-0800
TZOFFSETTO:-0700
TZNAME:PDT
DTSTART:20190310T100000
END:DAYLIGHT
BEGIN:STANDARD
TZOFFSETFROM:-0700
TZOFFSETTO:-0800
TZNAME:PST
DTSTART:20191103T090000
END:STANDARD
END:VTIMEZONE
BEGIN:VEVENT
DTSTART;TZID=America/Los_Angeles:20190509T203000
DTEND;TZID=America/Los_Angeles:20190509T223000
DTSTAMP:20260421T163635
CREATED:20190328T031508Z
LAST-MODIFIED:20190402T054044Z
UID:3119-1557433800-1557441000@thesirenmorrobay.com
SUMMARY:Atomic Sherpas
DESCRIPTION:Free show at 8:30pm! 21+ \n\nThe Atomic Sherpas meld funk\, blues\, jazz\, and psychedelic rock and present it with a freewheeling stage show tied to a compelling dance groove that keeps the audience dazzled and dancing. Grizzled veteranos of L.A. punk rock\, free jazz\, blues\, roots and rock n’ roll scenes join forces with whippersnappers with mad skills for the simple goal of transporting their audiences to the ecstatic states previously known only to whirling dervishes and do so in clubs throughout the L.A. area and in yearly appearances at yearly headlining appearances at The Yosemite Music Festival. Members of The Atomic Sherpas have played/toured/recorded with the following groups: Mike Watt\, Stew\, Bazooka\, Fatso Jetson\, Brant Bjork\, Double Naught Spy Car\, The Black Widows\, I See Hawks In L.A.\,  Christopher Owens\, The BellRays\, The Streetwalkin’ Cheetahs\, Carlos Guitarlos\, Passing Strange (The Musical)\, Love & Mercy (The Film) and El Grupo Sexo.
URL:https://thesirenmorrobay.com/event/atomic-sherpas/
LOCATION:The Siren\, 900 Main St.\, Morro Bay\, CA\, 93422\, United States
END:VEVENT
END:VCALENDAR