BEGIN:VCALENDAR
VERSION:2.0
PRODID:-//The Siren, Morro Bay, CA - ECPv5.1.6//NONSGML v1.0//EN
CALSCALE:GREGORIAN
METHOD:PUBLISH
X-WR-CALNAME:The Siren, Morro Bay, CA
X-ORIGINAL-URL:https://thesirenmorrobay.com
X-WR-CALDESC:Events for The Siren, Morro Bay, CA
BEGIN:VTIMEZONE
TZID:America/Los_Angeles
BEGIN:DAYLIGHT
TZOFFSETFROM:-0800
TZOFFSETTO:-0700
TZNAME:PDT
DTSTART:20250309T100000
END:DAYLIGHT
BEGIN:STANDARD
TZOFFSETFROM:-0700
TZOFFSETTO:-0800
TZNAME:PST
DTSTART:20251102T090000
END:STANDARD
END:VTIMEZONE
BEGIN:VEVENT
DTSTART;TZID=America/Los_Angeles:20250126T183000
DTEND;TZID=America/Los_Angeles:20250126T210000
DTSTAMP:20260420T214625
CREATED:20220826T064338Z
LAST-MODIFIED:20241130T222854Z
UID:5917-1737916200-1737925200@thesirenmorrobay.com
SUMMARY:An evening with Hawaiian Ukulele Jam Band Kanekoa
DESCRIPTION:Kanekoa\, The ultimate Hawaiian ‘ukulele jam band returns to the Central Coast!  “The Hawaiian Grateful Dead” —Bill Kreutzmann\, The Grateful Dead\n\n\nSailing in on a wave of blissful sound\, Maui’s Nā Hōkū Hanohano Award winning band Kanekoa has become a global phenomenon. Powered by electric ukuleles and exotic rhythms\, these ukulele masters ride the wave of Hawaiian roots with jam band energy\, creating a sound they call Hawaiian jam-rock. For the last 25 years audiences never fail to swoon over their soulful originals and crafty covers interpreted with pure originality. They recently graced the cover of Ukulele Magazine and were referred to as “Hawaiian Trailblazers”. The Grateful Dead’s drummer Bill Kreutzmann goes so far as to call them\, “the Hawaiian Grateful Dead.” David Hidalgo of Los Lobos says\, “These guys scare me. They are that good.”  Once you hear Vince Esquires lead ukulele\, you’ll know why he was invited to play with the Allman Brothers Band by his good friend Gregg Allman.\n\n\n\n\n\n“Wow…They are really tight\, and do very interesting arrangements of our songs.”\n—John Densmore\, The Doors\n\n\n“I’ve been jamming with Kanekoa for years now and whenever I get over to Maui we share the \nstage. Hawaiian style roots music at its best.” \n—G LOVE \n“The band is amazing…Completely stepping out of the traditional ‘ukulele approach” \n—Mick Fleetwood\, Fleetwood Mac \n“Kanekoa takes the ‘ukulele and uke-related music to another place…Vince has a much different and funkier pocket than any other uke player I’ve heard or have played with.”
URL:https://thesirenmorrobay.com/event/an-evening-with-hawaiian-ukulele-jam-band-kanekoa/
LOCATION:The Siren\, 900 Main St.\, Morro Bay\, CA\, 93422\, United States
ATTACH;FMTTYPE=image/jpeg:https://thesirenmorrobay.com/wp-content/uploads/2022/08/kanekoa-1.jpeg
END:VEVENT
END:VCALENDAR