BEGIN:VCALENDAR
VERSION:2.0
PRODID:-//The Siren, Morro Bay, CA - ECPv5.1.6//NONSGML v1.0//EN
CALSCALE:GREGORIAN
METHOD:PUBLISH
X-WR-CALNAME:The Siren, Morro Bay, CA
X-ORIGINAL-URL:https://thesirenmorrobay.com
X-WR-CALDESC:Events for The Siren, Morro Bay, CA
BEGIN:VTIMEZONE
TZID:America/Los_Angeles
BEGIN:DAYLIGHT
TZOFFSETFROM:-0800
TZOFFSETTO:-0700
TZNAME:PDT
DTSTART:20190310T100000
END:DAYLIGHT
BEGIN:STANDARD
TZOFFSETFROM:-0700
TZOFFSETTO:-0800
TZNAME:PST
DTSTART:20191103T090000
END:STANDARD
END:VTIMEZONE
BEGIN:VEVENT
DTSTART;TZID=America/Los_Angeles:20190515T173000
DTEND;TZID=America/Los_Angeles:20190515T203000
DTSTAMP:20260421T182311
CREATED:20190502T032830Z
LAST-MODIFIED:20190502T032830Z
UID:3366-1557941400-1557952200@thesirenmorrobay.com
SUMMARY:AMGEN  Meet & Greet the Pro's w/Bob Roll (SOLD OUT)
DESCRIPTION:THIS EVENT IS SOLD OUT\n\nMeet the Pros during our FREE 5:30pm Meet-and-Greet event at The Siren (next to the Amgen Tour of California – Stage 4 Finish)\, featuring legendary road cyclist\, Bob Roll! PLUS – LIVE Auction & LIVE Music.\n\n\n\n\n\nWhile there\, we be raising funds for Bike SLO County and raising cold craft pints. This event WILL SELL OUT\, so secure your FREE ticket today through the link!\n\n\n\n\n\n“Of all sports it is cycling that has the most beautiful stadium and this ocean front Stage 4 Finish in Morro Bay is a stunner! With perfect year round riding weather the world will get it’s chance to experience what the locals have enjoyed for years; varied terrain\, wide open roads\, first class dining and drop dead views! Can’t wait to be there!” – Bob Roll\n\n\n\n\n\nMust be 21\, limited capacity\, door ticket required
URL:https://thesirenmorrobay.com/event/amgen-meet-greet-the-pros-w-bob-roll-sold-out/
LOCATION:The Siren\, 900 Main St.\, Morro Bay\, CA\, 93422\, United States
END:VEVENT
END:VCALENDAR