BEGIN:VCALENDAR
VERSION:2.0
PRODID:-//The Siren, Morro Bay, CA - ECPv5.1.6//NONSGML v1.0//EN
CALSCALE:GREGORIAN
METHOD:PUBLISH
X-WR-CALNAME:The Siren, Morro Bay, CA
X-ORIGINAL-URL:https://thesirenmorrobay.com
X-WR-CALDESC:Events for The Siren, Morro Bay, CA
BEGIN:VTIMEZONE
TZID:America/Los_Angeles
BEGIN:DAYLIGHT
TZOFFSETFROM:-0800
TZOFFSETTO:-0700
TZNAME:PDT
DTSTART:20250309T100000
END:DAYLIGHT
BEGIN:STANDARD
TZOFFSETFROM:-0700
TZOFFSETTO:-0800
TZNAME:PST
DTSTART:20251102T090000
END:STANDARD
END:VTIMEZONE
BEGIN:VEVENT
DTSTART;TZID=America/Los_Angeles:20250125T140000
DTEND;TZID=America/Los_Angeles:20250125T170000
DTSTAMP:20260420T232033
CREATED:20250105T195808Z
LAST-MODIFIED:20250106T202314Z
UID:7888-1737813600-1737824400@thesirenmorrobay.com
SUMMARY:After Eight (Free afternoon dance party!)
DESCRIPTION:Eight member cover band bringing vibrant energy and a diverse playlist to any event from Pop and Rock to Country and Spanish Hits. We perform your favorite tunes from every decade. We’re available for private parties\, weddings\, anniversaries\, and public events. Let us make your occasion unforgettable! \nhttps://www.after8bandrocks.com/gallery?pgid=jeh2mmzy-666db866-6331-463b-94fc-030583311f4a
URL:https://thesirenmorrobay.com/event/after-8-free-afternoon-dance-party/
ATTACH;FMTTYPE=image/png:https://thesirenmorrobay.com/wp-content/uploads/2025/01/Screenshot-2025-01-05-at-11.56.47 AM.png
END:VEVENT
END:VCALENDAR