BEGIN:VCALENDAR
VERSION:2.0
PRODID:-//The Siren, Morro Bay, CA - ECPv5.1.6//NONSGML v1.0//EN
CALSCALE:GREGORIAN
METHOD:PUBLISH
X-WR-CALNAME:The Siren, Morro Bay, CA
X-ORIGINAL-URL:https://thesirenmorrobay.com
X-WR-CALDESC:Events for The Siren, Morro Bay, CA
BEGIN:VTIMEZONE
TZID:America/Los_Angeles
BEGIN:DAYLIGHT
TZOFFSETFROM:-0800
TZOFFSETTO:-0700
TZNAME:PDT
DTSTART:20240310T100000
END:DAYLIGHT
BEGIN:STANDARD
TZOFFSETFROM:-0700
TZOFFSETTO:-0800
TZNAME:PST
DTSTART:20241103T090000
END:STANDARD
END:VTIMEZONE
BEGIN:VEVENT
DTSTART;TZID=America/Los_Angeles:20241022T183000
DTEND;TZID=America/Los_Angeles:20241022T213000
DTSTAMP:20260421T034807
CREATED:20240909T020050Z
LAST-MODIFIED:20241021T014306Z
UID:7662-1729621800-1729632600@thesirenmorrobay.com
SUMMARY:50 Years Since Midnight Celebration with Maria Muldaur
DESCRIPTION:Closed for soundcheck\, doors open for dinner at 6:30pm\, Show starts at 7:30pm. Tables first come first serve when doors open unless reserved for $75. email monte@thesirenmorrobay.com for a reservation. \nWAY PAST MIDNIGHT~\nA 50 year Musical Journey\nMaria Muldaur chronicles her 50-year musical journey through\nAmerican Roots Music -To the Oasis and Beyond \n~2024 marks 50 years since Maria Muldaur’s big hit “Midnight at the Oasis” was riding at the top of the\ncharts and she’s released 43 albums in that time!!! To celebrate this milestone\, Maria has created a\nmulti-media retrospective – WAY PAST MIDNIGHT\, chronicling her 60 year journey “to the Oasis and\nBeyond”. This special presentation features all her hits\, &amp; all of your most-requested-over-the-years &quot;fan\nfaves&quot;\, as well as the best of her most recent work. She shares stories of her personal encounters\,\nfriendships\, and collaborations with many of the greatest names in Music\, along with photos &amp; videos\nfrom her early days in the 60&’s folk revival with The Jim Kweskin Jug Band\, through her years of &quot;pop\nstardom&quot;\, &amp; on to her continuing exploration of American Roots Music\, Blues\, Bluesiana\, Jazz &amp; Gospel. \nThis is a chance for you to hear all of your old\, rarely performed favorites\, so you don’t want to miss this\nspecial show!~
URL:https://thesirenmorrobay.com/event/50-years-since-midnight-celebration-with-maria-muldaur/
LOCATION:The Siren\, 900 Main St.\, Morro Bay\, CA\, 93422\, United States
ATTACH;FMTTYPE=image/jpeg:https://thesirenmorrobay.com/wp-content/uploads/2024/09/Maria-Muldaur-LIVE-scaled.jpg
END:VEVENT
END:VCALENDAR