BEGIN:VCALENDAR
VERSION:2.0
PRODID:-//The Siren, Morro Bay, CA - ECPv5.1.6//NONSGML v1.0//EN
CALSCALE:GREGORIAN
METHOD:PUBLISH
X-WR-CALNAME:The Siren, Morro Bay, CA
X-ORIGINAL-URL:https://thesirenmorrobay.com
X-WR-CALDESC:Events for The Siren, Morro Bay, CA
BEGIN:VTIMEZONE
TZID:America/Los_Angeles
BEGIN:DAYLIGHT
TZOFFSETFROM:-0800
TZOFFSETTO:-0700
TZNAME:PDT
DTSTART:20190310T100000
END:DAYLIGHT
BEGIN:STANDARD
TZOFFSETFROM:-0700
TZOFFSETTO:-0800
TZNAME:PST
DTSTART:20191103T090000
END:STANDARD
END:VTIMEZONE
BEGIN:VEVENT
DTSTART;TZID=America/Los_Angeles:20190420T193000
DTEND;TZID=America/Los_Angeles:20190420T233000
DTSTAMP:20260421T164914
CREATED:20190306T002955Z
LAST-MODIFIED:20190306T002955Z
UID:3034-1555788600-1555803000@thesirenmorrobay.com
SUMMARY:420 Reggae Party with Tripped Up\, Cydeways & The Ole's
DESCRIPTION:Doors at 7:30pm\, 21+ The biggest and most irie 420 party on the central coast is going down at the Siren!! Tickets are $10 in advance and $12 at the door (if it doesn’t ell out in advance) Get your ticket at BooBoo’ in LO\, Traffic Records in Atascadero or online at Ticketfly.com. \n\n\n\nWe are Tripped Up! Out of the beautiful Central Coast California! A 5 piece reggae band with original music and sound\, started in 2016 and currently going stronger than ever. We will be booking for 2019 and releasing a couple singles followed by our full length album. \nCydeways\, a group of reggae rockers out of Santa Barbara\, CA. Fronted by Dustin Parks (vocals/guitar)\, Cydeways also features Jeremy Baker (guitar)\, Casey Kernohan (drums)\, Ryan Loui (bass)\, and Trevor Buckingham & Dana Shoults (producer/engineer). The band initially formed in Boston\, MA before Parks moved the project out west to Santa Barbara\, CA. \n““Of the many promising West Coast reggae hybrid bands to rise out of Isla Vista\, few have shone so brightly or grown as strongly as The Olés. With Rise\, they show they’re a musical powerhouse with which to be reckoned.”” \n— RICHIE DEMARIA / SANTA BARBARA INDEPENDENT \n \n 
URL:https://thesirenmorrobay.com/event/420-reggae-party-with-tripped-up-cydeways-the-oles/
LOCATION:The Siren\, 900 Main St.\, Morro Bay\, CA\, 93422\, United States
END:VEVENT
END:VCALENDAR